BEGIN:VCALENDAR
VERSION:2.0
PRODID:-//Eventin//Event Calendar//EN
CALSCALE:GREGORIAN
METHOD:PUBLISH
BEGIN:VEVENT
UID:bb66e5c7c4b291f3fa5a8455de8879b0@www.vcaaroundup.org
SUMMARY:2026 Serenity By The Sea/Round-Up
DESCRIPTION:39th Annual Serenity by the SeaVentura County Round Up\n\n***Cl
 ick here to register for the event***\n \n***Click here for the Full Event
  Schedule***
LOCATION:Oxnard Performing Arts Center | 800 Hobson Way\, Oxnard CA 93030
DTSTAMP:20260421T082721Z
DTSTART:20260424T190000Z
DTEND:20260426T190000Z
END:VEVENT
END:VCALENDAR
